BEGIN:VCALENDAR
VERSION:2.0
PRODID:-//Ballsaal Tanzwerkstatt - ECPv4.9.4//NONSGML v1.0//EN
CALSCALE:GREGORIAN
METHOD:PUBLISH
X-WR-CALNAME:Ballsaal Tanzwerkstatt
X-ORIGINAL-URL:https://ballsaal.be
X-WR-CALDESC:Veranstaltungen im Ballsaal Tanzwerkstatt
BEGIN:VTIMEZONE
TZID:"Europe/Zurich"
BEGIN:DAYLIGHT
TZOFFSETFROM:+0100
TZOFFSETTO:+0200
TZNAME:CEST
DTSTART:20260329T010000
END:DAYLIGHT
BEGIN:STANDARD
TZOFFSETFROM:+0200
TZOFFSETTO:+0100
TZNAME:CET
DTSTART:20261025T010000
END:STANDARD
END:VTIMEZONE
BEGIN:VEVENT
DTSTART;TZID="Europe/Zurich":20260717T100000
DTEND;TZID="Europe/Zurich":20260717T113000
DTSTAMP:20260420T154156
CREATED:20160406T150727Z
LAST-MODIFIED:20160406T150727Z
UID:34010-1784282400-1784287800@ballsaal.be
SUMMARY:Zeitgenössisch Fortgeschritten/ Profi
DESCRIPTION:mit Nina Stadler \nWarm up- Floor-Turns-Jumps- Choreo in one Flow! \n
URL:https://ballsaal.be/stunde/zeitgenoessisch-fortgeschritten-2/2026-07-17/
LOCATION:Ballsaal\, Brunngasse 70\, Bern\, 3011\, Schweiz
CATEGORIES:Nina Stadler
ATTACH;FMTTYPE=image/jpeg:https://ballsaal.be/wp-content/uploads/2014/04/NinaStadlerZeitgenoessisch.jpg
END:VEVENT
BEGIN:VEVENT
DTSTART;TZID="Europe/Zurich":20260717T120000
DTEND;TZID="Europe/Zurich":20260717T130000
DTSTAMP:20260420T154156
CREATED:20171017T114931Z
LAST-MODIFIED:20171017T114931Z
UID:34011-1784289600-1784293200@ballsaal.be
SUMMARY:Pilates
DESCRIPTION: \nmit Chera Mack\n  \n
URL:https://ballsaal.be/stunde/pilates-5-2/2026-07-17/
LOCATION:Ballsaal\, Brunngasse 70\, Bern\, 3011\, Schweiz
CATEGORIES:Chera Mack
ATTACH;FMTTYPE=image/jpeg:https://ballsaal.be/wp-content/uploads/2015/09/chera-mack_2-e1565608295233.jpg
END:VEVENT
BEGIN:VEVENT
DTSTART;TZID="Europe/Zurich":20260717T173000
DTEND;TZID="Europe/Zurich":20260717T183000
DTSTAMP:20260420T154156
CREATED:20181031T081134Z
LAST-MODIFIED:20181031T081134Z
UID:34012-1784309400-1784313000@ballsaal.be
SUMMARY:Contemporary Jazz/ Anfänger / Mittelstufe
DESCRIPTION:
URL:https://ballsaal.be/stunde/contemporary-jazz-anfaenger-mittelstufe/2026-07-17/
LOCATION:Ballsaal\, Brunngasse 70\, Bern\, 3011\, Schweiz
CATEGORIES:Rena Brandenberger
ATTACH;FMTTYPE=image/png:https://ballsaal.be/wp-content/uploads/2014/04/RenaBrandenberger.png
END:VEVENT
BEGIN:VEVENT
DTSTART;TZID="Europe/Zurich":20260717T184500
DTEND;TZID="Europe/Zurich":20260717T194500
DTSTAMP:20260420T154156
CREATED:20200106T213149Z
LAST-MODIFIED:20200106T213149Z
UID:34014-1784313900-1784317500@ballsaal.be
SUMMARY:Modern Dance Ü60
DESCRIPTION:Mit Cynthia Gonzalez \n \n\n  \n  \n\n  \n
URL:https://ballsaal.be/stunde/modern-dance-ue60/2026-07-17/
LOCATION:Ballsaal\, Brunngasse 70\, Bern\, 3011\, Schweiz
CATEGORIES:Cynthia Gonzalez
ATTACH;FMTTYPE=image/jpeg:https://ballsaal.be/wp-content/uploads/2019/09/IMG_6948.jpg
END:VEVENT
BEGIN:VEVENT
DTSTART;TZID="Europe/Zurich":20260717T200000
DTEND;TZID="Europe/Zurich":20260717T211500
DTSTAMP:20260420T154156
CREATED:20200106T212940Z
LAST-MODIFIED:20200106T212940Z
UID:34013-1784318400-1784322900@ballsaal.be
SUMMARY:Butoh Tanz Entspannung und Meditation\, Open Level
DESCRIPTION:Mit Cynthia Gonzalez \n \n
URL:https://ballsaal.be/stunde/butoh-tanz-entspannung-und-meditation-open-level/2026-07-17/
LOCATION:Ballsaal\, Brunngasse 70\, Bern\, 3011\, Schweiz
CATEGORIES:Cynthia Gonzalez
ATTACH;FMTTYPE=image/jpeg:https://ballsaal.be/wp-content/uploads/2019/09/DSCF1426_small.jpg
END:VEVENT
END:VCALENDAR