BEGIN:VCALENDAR
VERSION:2.0
PRODID:-//Ballsaal Tanzwerkstatt - ECPv4.9.4//NONSGML v1.0//EN
CALSCALE:GREGORIAN
METHOD:PUBLISH
X-WR-CALNAME:Ballsaal Tanzwerkstatt
X-ORIGINAL-URL:https://ballsaal.be
X-WR-CALDESC:Veranstaltungen im Ballsaal Tanzwerkstatt
BEGIN:VTIMEZONE
TZID:"Europe/Zurich"
BEGIN:DAYLIGHT
TZOFFSETFROM:+0100
TZOFFSETTO:+0200
TZNAME:CEST
DTSTART:20260329T010000
END:DAYLIGHT
BEGIN:STANDARD
TZOFFSETFROM:+0200
TZOFFSETTO:+0100
TZNAME:CET
DTSTART:20261025T010000
END:STANDARD
END:VTIMEZONE
BEGIN:VEVENT
DTSTART;TZID="Europe/Zurich":20260706T090000
DTEND;TZID="Europe/Zurich":20260706T100000
DTSTAMP:20260420T153434
CREATED:20190630T203659Z
LAST-MODIFIED:20190630T203659Z
UID:33933-1783328400-1783332000@ballsaal.be
SUMMARY:MORNING DANCE FLOW
DESCRIPTION:mit Nina Stadler Warm up -Floor – turns – jumps in one flow \n
URL:https://ballsaal.be/stunde/morning-dance-flow/2026-07-06/
LOCATION:Ballsaal\, Brunngasse 70\, Bern\, 3011\, Schweiz
CATEGORIES:Nina Stadler
ATTACH;FMTTYPE=image/jpeg:https://ballsaal.be/wp-content/uploads/2014/04/NinaStadlerZeitgenoessisch.jpg
END:VEVENT
BEGIN:VEVENT
DTSTART;TZID="Europe/Zurich":20260706T120000
DTEND;TZID="Europe/Zurich":20260706T130000
DTSTAMP:20260420T153434
CREATED:20190813T074951Z
LAST-MODIFIED:20190813T074951Z
UID:33934-1783339200-1783342800@ballsaal.be
SUMMARY:Pilates
DESCRIPTION: \n\nPilates\nChera Mack \n \n
URL:https://ballsaal.be/stunde/pilates-3/2026-07-06/
LOCATION:Ballsaal\, Brunngasse 70\, Bern\, 3011\, Schweiz
CATEGORIES:Chera Mack
END:VEVENT
BEGIN:VEVENT
DTSTART;TZID="Europe/Zurich":20260706T150000
DTEND;TZID="Europe/Zurich":20260706T154500
DTSTAMP:20260420T153434
CREATED:20180703T080839Z
LAST-MODIFIED:20180703T080839Z
UID:33932-1783350000-1783352700@ballsaal.be
SUMMARY:kreativer Kindertanz 4- 6- jährige
DESCRIPTION: \n\nkreativer Kindertanz & Improvisation Zeitgenössisch\nNina Müller \n \n
URL:https://ballsaal.be/stunde/kreativer-kindertanz-4-6-jaehrige/2026-07-06/
LOCATION:Ballsaal\, Brunngasse 70\, Bern\, 3011\, Schweiz
CATEGORIES:Nina Müller
ATTACH;FMTTYPE=image/jpeg:https://ballsaal.be/wp-content/uploads/2015/08/CM24708.jpeg
END:VEVENT
BEGIN:VEVENT
DTSTART;TZID="Europe/Zurich":20260706T160000
DTEND;TZID="Europe/Zurich":20260706T164500
DTSTAMP:20260420T153434
CREATED:20180703T080444Z
LAST-MODIFIED:20180703T080444Z
UID:33931-1783353600-1783356300@ballsaal.be
SUMMARY:kreativer Kindertanz 4 -6  jährige
DESCRIPTION: \n\n  \nkreativer Kindertanz & Improvisation Zeitgenössisch\nNina Müller \n\n  \n
URL:https://ballsaal.be/stunde/kreativer-kindertanz-7-9-jaehrige/2026-07-06/
LOCATION:Ballsaal\, Brunngasse 70\, Bern\, 3011\, Schweiz
CATEGORIES:Nina Müller
ATTACH;FMTTYPE=image/jpeg:https://ballsaal.be/wp-content/uploads/2015/08/CM24708.jpeg
END:VEVENT
BEGIN:VEVENT
DTSTART;TZID="Europe/Zurich":20260706T165000
DTEND;TZID="Europe/Zurich":20260706T175000
DTSTAMP:20260420T153434
CREATED:20200128T140419Z
LAST-MODIFIED:20200128T140419Z
UID:33935-1783356600-1783360200@ballsaal.be
SUMMARY:kreativer Kindertanz 7- 9 jährige
DESCRIPTION:kreativer Kindertanz\, Improvisation\, Zeitgenössisch \n
URL:https://ballsaal.be/stunde/kreativer-kindertanz-7-9-jaehrige-2/2026-07-06/
LOCATION:Ballsaal\, Brunngasse 70\, Bern\, 3011\, Schweiz
CATEGORIES:Nina Müller
ATTACH;FMTTYPE=image/jpeg:https://ballsaal.be/wp-content/uploads/2015/08/CM24708.jpeg
END:VEVENT
BEGIN:VEVENT
DTSTART;TZID="Europe/Zurich":20260706T180000
DTEND;TZID="Europe/Zurich":20260706T191500
DTSTAMP:20260420T153434
CREATED:20140422T172448Z
LAST-MODIFIED:20140422T172448Z
UID:33925-1783360800-1783365300@ballsaal.be
SUMMARY:Lyrical Jazz\, Mittelstufe
DESCRIPTION:Mit Nicole Studer \n
URL:https://ballsaal.be/stunde/lyrical-jazz-mittelstufe/2026-07-06/
LOCATION:Ballsaal\, Brunngasse 70\, Bern\, 3011\, Schweiz
CATEGORIES:Nicole Studer
ATTACH;FMTTYPE=image/png:https://ballsaal.be/wp-content/uploads/2014/03/nici.png
END:VEVENT
BEGIN:VEVENT
DTSTART;TZID="Europe/Zurich":20260706T193000
DTEND;TZID="Europe/Zurich":20260706T203000
DTSTAMP:20260420T153434
CREATED:20180612T095843Z
LAST-MODIFIED:20180612T095843Z
UID:33930-1783366200-1783369800@ballsaal.be
SUMMARY:Zeitgenössisch & Improvisation OPEN CLASS für Erwachsene
DESCRIPTION: \n\n Improvisation Zeitgenössisch\nNina Müller \n \n
URL:https://ballsaal.be/stunde/zeitgenoessisch-improvisation-open-class-fuer-erwachsene/2026-07-06/
LOCATION:Ballsaal\, Brunngasse 70\, Bern\, 3011\, Schweiz
CATEGORIES:Nina Müller
ATTACH;FMTTYPE=image/jpeg:https://ballsaal.be/wp-content/uploads/2015/08/CM24708.jpeg
END:VEVENT
BEGIN:VEVENT
DTSTART;TZID="Europe/Zurich":20260706T203000
DTEND;TZID="Europe/Zurich":20260706T213000
DTSTAMP:20260420T153434
CREATED:20151120T120538Z
LAST-MODIFIED:20151120T120538Z
UID:33927-1783369800-1783373400@ballsaal.be
SUMMARY:Zeitgenössisch & Improvisation mit Nina Müller
DESCRIPTION:mit Nina Müller \n
URL:https://ballsaal.be/stunde/zeitgenoessisch-improvisation/2026-07-06/
LOCATION:Ballsaal\, Brunngasse 70\, Bern\, 3011\, Schweiz
CATEGORIES:Nina Müller
ATTACH;FMTTYPE=image/jpeg:https://ballsaal.be/wp-content/uploads/2015/08/CM24708.jpeg
END:VEVENT
END:VCALENDAR