BEGIN:VCALENDAR
VERSION:2.0
PRODID:-//Ballsaal Tanzwerkstatt - ECPv4.9.4//NONSGML v1.0//EN
CALSCALE:GREGORIAN
METHOD:PUBLISH
X-WR-CALNAME:Ballsaal Tanzwerkstatt
X-ORIGINAL-URL:https://ballsaal.be
X-WR-CALDESC:Veranstaltungen im Ballsaal Tanzwerkstatt
BEGIN:VTIMEZONE
TZID:"Europe/Zurich"
BEGIN:DAYLIGHT
TZOFFSETFROM:+0100
TZOFFSETTO:+0200
TZNAME:CEST
DTSTART:20260329T010000
END:DAYLIGHT
BEGIN:STANDARD
TZOFFSETFROM:+0200
TZOFFSETTO:+0100
TZNAME:CET
DTSTART:20261025T010000
END:STANDARD
END:VTIMEZONE
BEGIN:VEVENT
DTSTART;TZID="Europe/Zurich":20260611T100000
DTEND;TZID="Europe/Zurich":20260611T110000
DTSTAMP:20260420T141116
CREATED:20140422T180919Z
LAST-MODIFIED:20140422T180919Z
UID:33763-1781172000-1781175600@ballsaal.be
SUMMARY:Contemporary Jazz\, Mittelstufe
DESCRIPTION:Mit Rena Brandenberger \n
URL:https://ballsaal.be/stunde/contemporary-jazz-open-class/2026-06-11/
LOCATION:Ballsaal\, Brunngasse 70\, Bern\, 3011\, Schweiz
CATEGORIES:Rena Brandenberger
ATTACH;FMTTYPE=image/png:https://ballsaal.be/wp-content/uploads/2014/03/rena.png
END:VEVENT
BEGIN:VEVENT
DTSTART;TZID="Europe/Zurich":20260611T163000
DTEND;TZID="Europe/Zurich":20260611T173000
DTSTAMP:20260420T141116
CREATED:20200106T212244Z
LAST-MODIFIED:20200106T212244Z
UID:33769-1781195400-1781199000@ballsaal.be
SUMMARY:Contemporary Flamenco für Mutter/ Vater & Kind\, ab 5 Jahren
DESCRIPTION:Mit Cynthia Gonzalez \n \n
URL:https://ballsaal.be/stunde/contemporary-flamenco-fuer-mutter-vater-kind-ab-5-jahren/2026-06-11/
LOCATION:Ballsaal\, Brunngasse 70\, Bern\, 3011\, Schweiz
CATEGORIES:Cynthia Gonzalez
ATTACH;FMTTYPE=image/jpeg:https://ballsaal.be/wp-content/uploads/2019/09/IMG_6947.jpg
END:VEVENT
BEGIN:VEVENT
DTSTART;TZID="Europe/Zurich":20260611T180000
DTEND;TZID="Europe/Zurich":20260611T190000
DTSTAMP:20260420T141116
CREATED:20140422T181743Z
LAST-MODIFIED:20140422T181743Z
UID:33766-1781200800-1781204400@ballsaal.be
SUMMARY:Contemporary Jazz\, Anfänger/ Mittelstufe
DESCRIPTION:Mit Rena Brandenberger \n
URL:https://ballsaal.be/stunde/contemporary-jazz-newcomer-2016-12-01/2026-06-11/
LOCATION:Ballsaal\, Brunngasse 70\, Bern\, 3011\, Schweiz
CATEGORIES:Rena Brandenberger
ATTACH;FMTTYPE=image/png:https://ballsaal.be/wp-content/uploads/2014/03/rena.png
END:VEVENT
BEGIN:VEVENT
DTSTART;TZID="Europe/Zurich":20260611T190000
DTEND;TZID="Europe/Zurich":20260611T200000
DTSTAMP:20260420T141116
CREATED:20140422T182048Z
LAST-MODIFIED:20140422T182048Z
UID:33764-1781204400-1781208000@ballsaal.be
SUMMARY:Contemporary Jazz\, Mittelstufe/ Fortgeschritten
DESCRIPTION:Mit Rena Brandenberger \n
URL:https://ballsaal.be/stunde/contemporary-jazz-mittelstufe/2026-06-11/
LOCATION:Ballsaal\, Brunngasse 70\, Bern\, 3011\, Schweiz
CATEGORIES:Rena Brandenberger
ATTACH;FMTTYPE=image/png:https://ballsaal.be/wp-content/uploads/2014/04/RenaBrandenberger.png
END:VEVENT
BEGIN:VEVENT
DTSTART;TZID="Europe/Zurich":20260611T201500
DTEND;TZID="Europe/Zurich":20260611T211500
DTSTAMP:20260420T141116
CREATED:20151114T101725Z
LAST-MODIFIED:20151114T101725Z
UID:33765-1781208900-1781212500@ballsaal.be
SUMMARY:Contemporary Jazz / Newcomer/Beginner
DESCRIPTION:Mit Rena Brandenberger \n
URL:https://ballsaal.be/stunde/contemporary-jazz-fortgeschritten/2026-06-11/
CATEGORIES:Rena Brandenberger
ATTACH;FMTTYPE=image/png:https://ballsaal.be/wp-content/uploads/2014/03/rena.png
END:VEVENT
END:VCALENDAR