BEGIN:VCALENDAR
VERSION:2.0
PRODID:-//Ballsaal Tanzwerkstatt - ECPv4.9.4//NONSGML v1.0//EN
CALSCALE:GREGORIAN
METHOD:PUBLISH
X-WR-CALNAME:Ballsaal Tanzwerkstatt
X-ORIGINAL-URL:https://ballsaal.be
X-WR-CALDESC:Veranstaltungen im Ballsaal Tanzwerkstatt
BEGIN:VTIMEZONE
TZID:"Europe/Zurich"
BEGIN:DAYLIGHT
TZOFFSETFROM:+0100
TZOFFSETTO:+0200
TZNAME:CEST
DTSTART:20200329T010000
END:DAYLIGHT
BEGIN:STANDARD
TZOFFSETFROM:+0200
TZOFFSETTO:+0100
TZNAME:CET
DTSTART:20201025T010000
END:STANDARD
END:VTIMEZONE
BEGIN:VEVENT
DTSTART;TZID="Europe/Zurich":20200115T093000
DTEND;TZID="Europe/Zurich":20200115T103000
DTSTAMP:20260424T150747
CREATED:20200106T214353Z
LAST-MODIFIED:20200114T142558Z
UID:15595-1579080600-1579084200@ballsaal.be
SUMMARY:Modern Dance Ü60
DESCRIPTION:Mit Cynthia Gonzalez \n \n\n  \n
URL:https://ballsaal.be/stunde/modern-dance-ue60-2/2020-01-15/
LOCATION:Ballsaal\, Brunngasse 70\, Bern\, 3011\, Schweiz
CATEGORIES:Cynthia Gonzalez
ATTACH;FMTTYPE=image/jpeg:https://ballsaal.be/wp-content/uploads/2019/09/IMG_6948.jpg
END:VEVENT
BEGIN:VEVENT
DTSTART;TZID="Europe/Zurich":20200115T143000
DTEND;TZID="Europe/Zurich":20200115T153000
DTSTAMP:20260424T150747
CREATED:20200106T213935Z
LAST-MODIFIED:20200106T215226Z
UID:15582-1579098600-1579102200@ballsaal.be
SUMMARY:Lyrical Modern Contemporary Dance\, Mittelstufe
DESCRIPTION:Mit Cynthia Gonzalez \n \n\n  \n
URL:https://ballsaal.be/stunde/lyrical-modern-contemporary-dance-mittelstufe/2020-01-15/
LOCATION:Ballsaal\, Brunngasse 70\, Bern\, 3011\, Schweiz
ATTACH;FMTTYPE=image/jpeg:https://ballsaal.be/wp-content/uploads/2019/09/B8B_7655_small.jpg
END:VEVENT
BEGIN:VEVENT
DTSTART;TZID="Europe/Zurich":20200115T154500
DTEND;TZID="Europe/Zurich":20200115T164500
DTSTAMP:20260424T150747
CREATED:20200106T213518Z
LAST-MODIFIED:20200106T215149Z
UID:15569-1579103100-1579106700@ballsaal.be
SUMMARY:Funky Contemporary Jugendliche 12- 16 J.\, Mittelstufe / Fortgeschritten
DESCRIPTION:Mit Cynthia Gonzalez \n \n\n  \n\n  \n
URL:https://ballsaal.be/stunde/funky-contemporary-jugendliche-mittelstufe-fortgeschritten/2020-01-15/
LOCATION:Ballsaal\, Brunngasse 70\, Bern\, 3011\, Schweiz
CATEGORIES:Cynthia Gonzalez
ATTACH;FMTTYPE=image/jpeg:https://ballsaal.be/wp-content/uploads/2019/09/IMG_6948.jpg
END:VEVENT
END:VCALENDAR