BEGIN:VCALENDAR
VERSION:2.0
PRODID:-//Ballsaal Tanzwerkstatt - ECPv4.9.4//NONSGML v1.0//EN
CALSCALE:GREGORIAN
METHOD:PUBLISH
X-WR-CALNAME:Ballsaal Tanzwerkstatt
X-ORIGINAL-URL:https://ballsaal.be
X-WR-CALDESC:Veranstaltungen im Ballsaal Tanzwerkstatt
BEGIN:VTIMEZONE
TZID:"Europe/Zurich"
BEGIN:DAYLIGHT
TZOFFSETFROM:+0100
TZOFFSETTO:+0200
TZNAME:CEST
DTSTART:20140330T010000
END:DAYLIGHT
BEGIN:STANDARD
TZOFFSETFROM:+0200
TZOFFSETTO:+0100
TZNAME:CET
DTSTART:20141026T010000
END:STANDARD
END:VTIMEZONE
BEGIN:VEVENT
DTSTART;TZID="Europe/Zurich":20140409T181500
DTEND;TZID="Europe/Zurich":20140409T191500
DTSTAMP:20260421T140455
CREATED:20140422T180043Z
LAST-MODIFIED:20150831T114746Z
UID:646-1397067300-1397070900@ballsaal.be
SUMMARY:Fusion Ballett-Zeitgenössisch\, Mittelstufe 1
DESCRIPTION:mit Nina Stadler \n
URL:https://ballsaal.be/stunde/fusion-ballett-zeitgenoessisch-mittelstufe-1-mittwochs/2014-04-09/
LOCATION:Ballsaal\, Brunngasse 70\, Bern\, 3011\, Schweiz
CATEGORIES:Nina Stadler
ATTACH;FMTTYPE=image/jpeg:https://ballsaal.be/wp-content/uploads/2014/04/NinaStadlerZeitgenoessisch.jpg
END:VEVENT
END:VCALENDAR